BEGIN:VCALENDAR
VERSION:2.0
PRODID:-//Walter&#039;s303 - ECPv6.15.14//NONSGML v1.0//EN
CALSCALE:GREGORIAN
METHOD:PUBLISH
X-WR-CALNAME:Walter&#039;s303
X-ORIGINAL-URL:https://walters303.com
X-WR-CALDESC:Events for Walter&#039;s303
REFRESH-INTERVAL;VALUE=DURATION:PT1H
X-Robots-Tag:noindex
X-PUBLISHED-TTL:PT1H
BEGIN:VTIMEZONE
TZID:America/Denver
BEGIN:DAYLIGHT
TZOFFSETFROM:-0700
TZOFFSETTO:-0600
TZNAME:MDT
DTSTART:20250309T090000
END:DAYLIGHT
BEGIN:STANDARD
TZOFFSETFROM:-0600
TZOFFSETTO:-0700
TZNAME:MST
DTSTART:20251102T080000
END:STANDARD
BEGIN:DAYLIGHT
TZOFFSETFROM:-0700
TZOFFSETTO:-0600
TZNAME:MDT
DTSTART:20260308T090000
END:DAYLIGHT
BEGIN:STANDARD
TZOFFSETFROM:-0600
TZOFFSETTO:-0700
TZNAME:MST
DTSTART:20261101T080000
END:STANDARD
BEGIN:DAYLIGHT
TZOFFSETFROM:-0700
TZOFFSETTO:-0600
TZNAME:MDT
DTSTART:20270314T090000
END:DAYLIGHT
BEGIN:STANDARD
TZOFFSETFROM:-0600
TZOFFSETTO:-0700
TZNAME:MST
DTSTART:20271107T080000
END:STANDARD
END:VTIMEZONE
BEGIN:VEVENT
DTSTART;TZID=America/Denver:20260302T170000
DTEND;TZID=America/Denver:20260302T190000
DTSTAMP:20260420T050912
CREATED:20260216T181202Z
LAST-MODIFIED:20260216T181709Z
UID:1292-1772470800-1772478000@walters303.com
SUMMARY:Flying Horse Pint Night Left Hand Brewing
DESCRIPTION:Left Hand Brewing Pint Night at Walter’s303 Flying Horse\nMonday\, March 2nd | 5–7 PM\nJoin us for a special Pint Night featuring beers from Left Hand Brewing Co. Enjoy fresh pours of: \n\n\nJuicy Goodness Hazy IPA \n\n\nPeanut Butter Milk Stout \n\n\nColorful Colorado IPA \n\n\nGreat beer. Great pizza. Two hours only.
URL:https://walters303.com/event/flying-horse-pint-night-left-hand-brewing/
LOCATION:Walter’s303 Pizzeria | Flying Horse\, 2690 North Gate Blvd.\, Colorado Springs\, CO\, 80921\, United States
ATTACH;FMTTYPE=image/png:/wp-content/uploads/2026/02/left-hand-brewing-logo.png
END:VEVENT
END:VCALENDAR