BEGIN:VCALENDAR
VERSION:2.0
PRODID:-//Walter&#039;s303 - ECPv6.15.14//NONSGML v1.0//EN
CALSCALE:GREGORIAN
METHOD:PUBLISH
X-WR-CALNAME:Walter&#039;s303
X-ORIGINAL-URL:https://walters303.com
X-WR-CALDESC:Events for Walter&#039;s303
REFRESH-INTERVAL;VALUE=DURATION:PT1H
X-Robots-Tag:noindex
X-PUBLISHED-TTL:PT1H
BEGIN:VTIMEZONE
TZID:America/Denver
BEGIN:DAYLIGHT
TZOFFSETFROM:-0700
TZOFFSETTO:-0600
TZNAME:MDT
DTSTART:20200308T090000
END:DAYLIGHT
BEGIN:STANDARD
TZOFFSETFROM:-0600
TZOFFSETTO:-0700
TZNAME:MST
DTSTART:20201101T080000
END:STANDARD
BEGIN:DAYLIGHT
TZOFFSETFROM:-0700
TZOFFSETTO:-0600
TZNAME:MDT
DTSTART:20210314T090000
END:DAYLIGHT
BEGIN:STANDARD
TZOFFSETFROM:-0600
TZOFFSETTO:-0700
TZNAME:MST
DTSTART:20211107T080000
END:STANDARD
BEGIN:DAYLIGHT
TZOFFSETFROM:-0700
TZOFFSETTO:-0600
TZNAME:MDT
DTSTART:20220313T090000
END:DAYLIGHT
BEGIN:STANDARD
TZOFFSETFROM:-0600
TZOFFSETTO:-0700
TZNAME:MST
DTSTART:20221106T080000
END:STANDARD
BEGIN:DAYLIGHT
TZOFFSETFROM:-0700
TZOFFSETTO:-0600
TZNAME:MDT
DTSTART:20230312T090000
END:DAYLIGHT
BEGIN:STANDARD
TZOFFSETFROM:-0600
TZOFFSETTO:-0700
TZNAME:MST
DTSTART:20231105T080000
END:STANDARD
BEGIN:DAYLIGHT
TZOFFSETFROM:-0700
TZOFFSETTO:-0600
TZNAME:MDT
DTSTART:20240310T090000
END:DAYLIGHT
BEGIN:STANDARD
TZOFFSETFROM:-0600
TZOFFSETTO:-0700
TZNAME:MST
DTSTART:20241103T080000
END:STANDARD
END:VTIMEZONE
BEGIN:VEVENT
DTSTART;VALUE=DATE:20230209
DTEND;VALUE=DATE:20230210
DTSTAMP:20260421T074921
CREATED:20230202T174021Z
LAST-MODIFIED:20240306T203238Z
UID:894-1675900800-1675987199@walters303.com
SUMMARY:National Pizza Day
DESCRIPTION:National Pizza Day\, you say?\nThat’s right folks\, here’s your chance to devour Walter’s handmade pizza guilt-free and in concert with pizza lovers around the country. \nCarpe diem at Walter’s303\nWalter’s serves handmade pizza\, award-winning wings\, and classic pizzeria favorites at four front range locations. \nWalter’s303 Uptown (Central Denver) \nWalter’s303 Lowry (East Denver) \nWalter’s303 Bow Mar (Littleton) \nWalter’s303 Flying Horse (Colorado Springs)
URL:https://walters303.com/event/national-pizza-day/
LOCATION:All Locations
ATTACH;FMTTYPE=image/png:/wp-content/uploads/2022/07/events-logo-walters-303.png
END:VEVENT
BEGIN:VEVENT
DTSTART;TZID=America/Denver:20230125T170000
DTEND;TZID=America/Denver:20230125T200000
DTSTAMP:20260421T074921
CREATED:20230118T162702Z
LAST-MODIFIED:20230118T165913Z
UID:889-1674666000-1674676800@walters303.com
SUMMARY:Lunar New Year Celebration
DESCRIPTION:  \n  \n  \n  \n  \n  \n  \n  \nCelebrate the Lunar New Year with Walter’s303 serving Ming River Sichuan Baijiu\, Wednesday\, January 25\, from 5 PM to 8 PM. \nExcerpt from Ming River  \nWhat is baijiu?\nBaijiu (pronounced bye-j’yo) means “white spirits” in Mandarin. It is a diverse drinks category that includes all traditional Chinese grain spirits. Most baijiu is distilled from sorghum\, but it can also be made from other crops. The techniques deployed in baijiu production vary greatly by region and style\, and different styles of baijiu can be as distinct as whiskey is to tequila. The secret ingredient in baijiu is qu (pronounced “chew”)\, a naturally harvested culture of airborne yeasts and other microorganisms. It makes the taste and scent of every baijiu highly specific to the place it was created. Qu also allows Chinese distillers to ferment and distill grains in a solid state\, which creates incredible complexity of flavor. read more
URL:https://walters303.com/event/lunar-new-year-celebration/
LOCATION:Walter’s303 Pizzeria | Uptown\, 1906 Pearl Street\, Denver\, CO\, 80203\, United States
ATTACH;FMTTYPE=image/png:/wp-content/uploads/2022/07/events-logo-walters-303.png
END:VEVENT
BEGIN:VEVENT
DTSTART;TZID=America/Denver:20220824T180000
DTEND;TZID=America/Denver:20220824T200000
DTSTAMP:20260421T074921
CREATED:20220715T221637Z
LAST-MODIFIED:20220715T221637Z
UID:809-1661364000-1661371200@walters303.com
SUMMARY:TIN CUP MULE NIGHT
DESCRIPTION:TIN CUP Mule Night Wednesday\, August 24\, 6 PM – 8 PM at Walter’s303 Uptown location. Enjoy a cool mule for Tin Cup\, eat the pizza\, meet the friends\, and get the swag!
URL:https://walters303.com/event/tin-cup-mule-night/
LOCATION:Walter’s303 Pizzeria | Uptown\, 1906 Pearl Street\, Denver\, CO\, 80203\, United States
ATTACH;FMTTYPE=image/png:/wp-content/uploads/2022/07/events-logo-walters-303.png
END:VEVENT
BEGIN:VEVENT
DTSTART;TZID=America/Denver:20220817T180000
DTEND;TZID=America/Denver:20220817T200000
DTSTAMP:20260421T074921
CREATED:20220715T213216Z
LAST-MODIFIED:20220715T221325Z
UID:807-1660759200-1660766400@walters303.com
SUMMARY:Great Divide Pint Night
DESCRIPTION:Great Divide Pint Night Wednesday\, August 17\, 6 PM – 8 PM at Walter’s303 Uptown location. Drink the beer\, eat the pizza\, meet the brewers\, and get the swag!
URL:https://walters303.com/event/great-divide-pint-night-2/
LOCATION:Walter’s303 Pizzeria | Uptown\, 1906 Pearl Street\, Denver\, CO\, 80203\, United States
ATTACH;FMTTYPE=image/png:/wp-content/uploads/2022/07/events-logo-walters-303.png
END:VEVENT
BEGIN:VEVENT
DTSTART;TZID=America/Denver:20220720T180000
DTEND;TZID=America/Denver:20220720T200000
DTSTAMP:20260421T074921
CREATED:20220715T211508Z
LAST-MODIFIED:20220715T221358Z
UID:806-1658340000-1658347200@walters303.com
SUMMARY:URSULA BREWING PINT NIGHT
DESCRIPTION:Ursula Brewing Pint Night Wednesday\, July 20\, 6 PM – 8 PM at Walter’s303 Uptown location. Drink the beer\, eat the pizza\, meet the brewers\, and get the swag!
URL:https://walters303.com/event/ursula-brewing-pint-night/
LOCATION:Walter’s303 Pizzeria | Uptown\, 1906 Pearl Street\, Denver\, CO\, 80203\, United States
ATTACH;FMTTYPE=image/png:/wp-content/uploads/2022/07/events-logo-walters-303.png
END:VEVENT
BEGIN:VEVENT
DTSTART;TZID=America/Denver:20220625T120000
DTEND;TZID=America/Denver:20220625T150000
DTSTAMP:20260421T074921
CREATED:20220617T194901Z
LAST-MODIFIED:20220617T194901Z
UID:770-1656158400-1656169200@walters303.com
SUMMARY:Widespread Panic Sticker Con
DESCRIPTION:Pre-Panic Party – Having a Good Time here at Walters303. We will be hosting Sticker Con with Maine Beer event. Come hang with some Good People\, there will be lots of  WSP stickers and Swag\, great beer\, and awesome tunes.
URL:https://walters303.com/event/widespread-panic-sticker-con/
LOCATION:Walter’s303 Pizzeria | Uptown\, 1906 Pearl Street\, Denver\, CO\, 80203\, United States
END:VEVENT
BEGIN:VEVENT
DTSTART;TZID=America/Denver:20220624T170000
DTEND;TZID=America/Denver:20220624T190000
DTSTAMP:20260421T074921
CREATED:20220617T193806Z
LAST-MODIFIED:20220617T195109Z
UID:769-1656090000-1656097200@walters303.com
SUMMARY:Montucky Pride Event
DESCRIPTION:Join WALTER’S303 UPTOWN in the celebration of life\, love\, and the pursuit of happiness. Enjoy incredible beer from Montucky\, Freemont Brewing\, and Cerebral Brewing\, and all your classic pizzeria favorites from Walters! \nBREWER SPECIALS:\nMONTUCKY – Buy a bucket of five Montucky 16 oz. cans for $12 and receive a raffle ticket for awesome Montucky merch. 8% of Montucky Cans sales goes back to local LGBTQ causes. \nFREEMONT BREWING -PRIDE KÖLSCH-STYLE ALE – A portion of the proceeds of this beer go to funding organizations supporting and fighting for the LGBTIAQ+ community. \nCEREBRAL BREWING – OUT LOUD\, IPA WITH ORANGES – Sales from this beer benefit The Transformative Freedom Fund\, a non-profit dedicated to supporting transgender Coloradans by removing financial barriers to transition-related healthcare. \n  \n 
URL:https://walters303.com/event/montucky-pride-event/
LOCATION:Walter’s303 Pizzeria | Uptown\, 1906 Pearl Street\, Denver\, CO\, 80203\, United States
END:VEVENT
BEGIN:VEVENT
DTSTART;TZID=America/Denver:20220518T180000
DTEND;TZID=America/Denver:20220518T200000
DTSTAMP:20260421T074921
CREATED:20220512T154452Z
LAST-MODIFIED:20220512T154452Z
UID:758-1652896800-1652904000@walters303.com
SUMMARY:Call to Arms Pint Night
DESCRIPTION:Call to Arms Pint Night | Join us as we raise a glass to the good folks at Call to Arms Brewing. Buy a pint and get a glass while supplies last! Try new brews\, make new friends\, and chow down on Walter’s handmade pizza\, award-winning wings\, and classic pizzeria favorites!
URL:https://walters303.com/event/call-to-arms-pint-night-2/
LOCATION:Walter’s303 Pizzeria | Uptown\, 1906 Pearl Street\, Denver\, CO\, 80203\, United States
END:VEVENT
BEGIN:VEVENT
DTSTART;TZID=America/Denver:20220511T180000
DTEND;TZID=America/Denver:20220511T200000
DTSTAMP:20260421T074921
CREATED:20220411T170859Z
LAST-MODIFIED:20220411T170859Z
UID:731-1652292000-1652299200@walters303.com
SUMMARY:Joyride Brewing Pint Night
DESCRIPTION:Joyride Brewing Pint Night | Join us as we raise a glass to the good folks at Joyride Brewing. Try new brews\, make new friends\, and chow down on Walter’s handmade pizza\, award-winning wings\, and classic pizzeria favorites!
URL:https://walters303.com/event/joyride-brewing-pint-night/
LOCATION:Walter’s303 Pizzeria | Lowry\, 200 Quebec Street\, Denver\, CO\, 80230\, United States
END:VEVENT
BEGIN:VEVENT
DTSTART;TZID=America/Denver:20220428T180000
DTEND;TZID=America/Denver:20220428T200000
DTSTAMP:20260421T074921
CREATED:20220426T232600Z
LAST-MODIFIED:20220427T174303Z
UID:741-1651168800-1651176000@walters303.com
SUMMARY:Boulevard Brewing Pint Night
DESCRIPTION:Join Boulevard in support of Nature’s Educators to build a new public nature center on Earth Day eve. \n\n50% of SPACE CAMPER IPA sales will be donated to Nature’s Educators!\nBuy a pint and take home a plant! (while supplies last)
URL:https://walters303.com/event/boulevard-brewing-pint-night/
LOCATION:Walter’s303 Pizzeria | Uptown\, 1906 Pearl Street\, Denver\, CO\, 80203\, United States
END:VEVENT
BEGIN:VEVENT
DTSTART;TZID=America/Denver:20220427T180000
DTEND;TZID=America/Denver:20220427T200000
DTSTAMP:20260421T074921
CREATED:20220411T164832Z
LAST-MODIFIED:20220425T234847Z
UID:728-1651082400-1651089600@walters303.com
SUMMARY:Odyssey Beerwerks Pint Night
DESCRIPTION:Odyssey Beerwerks Pint Night | Join us as we raise a glass to the good folks at Odyssey Beerwerks. Try new brews\, make new friends\, and chow down on Walter’s handmade pizza\, award-winning wings\, and classic pizzeria favorites!
URL:https://walters303.com/event/odyssey-beerwerks-pint-night/
LOCATION:Walter’s303 Pizzeria | Lowry\, 200 Quebec Street\, Denver\, CO\, 80230\, United States
END:VEVENT
BEGIN:VEVENT
DTSTART;TZID=America/Denver:20220413T180000
DTEND;TZID=America/Denver:20220413T200000
DTSTAMP:20260421T074921
CREATED:20220411T163955Z
LAST-MODIFIED:20220411T164953Z
UID:726-1649872800-1649880000@walters303.com
SUMMARY:New Image Pint Night
DESCRIPTION:Join us on Wednesday\, April 13\, from 6:00 PM – 8:00 PM as Walter’s303 Lowry raises a glass to the good folks at New Image Brewing. Try new brews\, make new friends\, and chow down on Walter’s handmade pizza\, award-winning wings\, and classic pizzeria favorites!
URL:https://walters303.com/event/new-image-pint-night/
LOCATION:Walter’s303 Pizzeria | Lowry\, 200 Quebec Street\, Denver\, CO\, 80230\, United States
END:VEVENT
BEGIN:VEVENT
DTSTART;TZID=America/Denver:20220330T180000
DTEND;TZID=America/Denver:20220330T200000
DTSTAMP:20260421T074921
CREATED:20220303T220001Z
LAST-MODIFIED:20220327T171312Z
UID:724-1648663200-1648670400@walters303.com
SUMMARY:Call to Arms Pint Night
DESCRIPTION:Pint night featuring Call to Arms Brewing at Walter’s303 Lowry.
URL:https://walters303.com/event/call-to-arms-pint-night/
LOCATION:Walter’s303 Pizzeria | Lowry\, 200 Quebec Street\, Denver\, CO\, 80230\, United States
END:VEVENT
BEGIN:VEVENT
DTSTART;TZID=America/Denver:20220302T180000
DTEND;TZID=America/Denver:20220302T200000
DTSTAMP:20260421T074921
CREATED:20220303T215101Z
LAST-MODIFIED:20220303T215101Z
UID:723-1646244000-1646251200@walters303.com
SUMMARY:Delirium Pint Night
DESCRIPTION:Great beer from the folks at Delirium. Stop in\, join the fun\, stay a minute.
URL:https://walters303.com/event/delirium-pint-night/
LOCATION:Walter’s303 Pizzeria | Lowry\, 200 Quebec Street\, Denver\, CO\, 80230\, United States
END:VEVENT
BEGIN:VEVENT
DTSTART;TZID=America/Denver:20220222T110000
DTEND;TZID=America/Denver:20220222T220000
DTSTAMP:20260421T074921
CREATED:20220215T232146Z
LAST-MODIFIED:20220215T234725Z
UID:717-1645527600-1645567200@walters303.com
SUMMARY:Pliny The Younger Tapping
DESCRIPTION:Pliny the Younger is a Triple IPA from Russian River Brewing. It’s epic\, it’s hoppy and it’s about 10.25% ABV!
URL:https://walters303.com/event/pliny-the-younger-tapping/
LOCATION:Walter’s303 Pizzeria | Uptown\, 1906 Pearl Street\, Denver\, CO\, 80203\, United States
END:VEVENT
BEGIN:VEVENT
DTSTART;TZID=America/Denver:20220221T110000
DTEND;TZID=America/Denver:20220222T220000
DTSTAMP:20260421T074921
CREATED:20220216T000441Z
LAST-MODIFIED:20220216T001632Z
UID:720-1645441200-1645567200@walters303.com
SUMMARY:Pliny The Younger Pre-Sale
DESCRIPTION:Pliny The Younger Pre-Sale \n*LIMITED SUPPLY* Reserve a pour or two for yourself or a friend by purchasing a ticket in advance. One ticket per 10 oz. pour. That means once the tickets are gone the Pliny is gone! \nPURCHASE TICKETS AT THE WALTER’S303 UPTOWN LOCATION.
URL:https://walters303.com/event/pliny-the-younger-pre-sale/
LOCATION:Walter’s303 Pizzeria | Uptown\, 1906 Pearl Street\, Denver\, CO\, 80203\, United States
END:VEVENT
BEGIN:VEVENT
DTSTART;TZID=America/Denver:20220217T180000
DTEND;TZID=America/Denver:20220217T200000
DTSTAMP:20260421T074921
CREATED:20220215T213750Z
LAST-MODIFIED:20220216T001450Z
UID:713-1645120800-1645128000@walters303.com
SUMMARY:Great Divide Pint Night
DESCRIPTION:Join us 2/17 from 6 PM – 8 PM for Pint Night featuring the great beers (and folks) from Great Divide Brewing Co. Improve your YETI awareness with incredible beers and Walter’s303 handmade pizza\, world-famous wings\, and classic pizzeria favorites. \n 
URL:https://walters303.com/event/great-divide-pint-night/
LOCATION:Walter’s303 Pizzeria | Lowry\, 200 Quebec Street\, Denver\, CO\, 80230\, United States
END:VEVENT
BEGIN:VEVENT
DTSTART;TZID=America/Denver:20210915T180000
DTEND;TZID=America/Denver:20210915T200000
DTSTAMP:20260421T074921
CREATED:20210830T220034Z
LAST-MODIFIED:20210830T221646Z
UID:588-1631728800-1631736000@walters303.com
SUMMARY:Pint Night Breckenridge Brewery
DESCRIPTION:Join us Wednesday\, September 15\, for Pint Night as we celebrate the good folks are Breckenridge Brewery. Cold Beer\, hot friends\, and award-winning pizza and wings!
URL:https://walters303.com/event/pint-night-breckenridge-brewery/
LOCATION:Walter’s303 Pizzeria | Uptown\, 1906 Pearl Street\, Denver\, CO\, 80203\, United States
END:VEVENT
BEGIN:VEVENT
DTSTART;VALUE=DATE:20210907
DTEND;VALUE=DATE:20210913
DTSTAMP:20260421T074921
CREATED:20210830T223007Z
LAST-MODIFIED:20210830T223825Z
UID:591-1630972800-1631491199@walters303.com
SUMMARY:GABF Beer Week Lowry
DESCRIPTION:Join us at Walter’s303 Lowry for GABF Beer Week as we celebrate the Craft Brewers Conference and the Great American Beer Festival. We are featuring 24 taps of past GABF Gold Medal Winners to spark your memory and tempt your tastebuds.
URL:https://walters303.com/event/gabf-beer-week-lowry/
LOCATION:Walter’s303 Pizzeria | Lowry\, 200 Quebec Street\, Denver\, CO\, 80230\, United States
END:VEVENT
BEGIN:VEVENT
DTSTART;TZID=America/Denver:20210901T180000
DTEND;TZID=America/Denver:20210901T200000
DTSTAMP:20260421T074921
CREATED:20210830T193736Z
LAST-MODIFIED:20210830T220921Z
UID:580-1630519200-1630526400@walters303.com
SUMMARY:Pint Night Lone Tree Brewing
DESCRIPTION:Join us Wednesday\, September 1\, from 6 pm – 8 pm for cold Beer from Lone Tree Brewing\, hot friends from your address book\, and award-winning pizza and wings from Walter’s303 Uptown!
URL:https://walters303.com/event/pint-night-lone-tree-brewing/
LOCATION:Walter’s303 Pizzeria | Uptown\, 1906 Pearl Street\, Denver\, CO\, 80203\, United States
END:VEVENT
END:VCALENDAR